BEGIN:VCALENDAR
VERSION:2.0
PRODID:-//Welcome to MP Sports Cricket Academy in Thame, Oxfordshire - ECPv6.10.1//NONSGML v1.0//EN
CALSCALE:GREGORIAN
METHOD:PUBLISH
X-ORIGINAL-URL:https://mpsportscricketacademy.co.uk
X-WR-CALDESC:Events for Welcome to MP Sports Cricket Academy in Thame, Oxfordshire
REFRESH-INTERVAL;VALUE=DURATION:PT1H
X-Robots-Tag:noindex
X-PUBLISHED-TTL:PT1H
BEGIN:VTIMEZONE
TZID:UTC
BEGIN:STANDARD
TZOFFSETFROM:+0000
TZOFFSETTO:+0000
TZNAME:UTC
DTSTART:20250101T000000
END:STANDARD
END:VTIMEZONE
BEGIN:VEVENT
DTSTART;TZID=UTC:20250702T180000
DTEND;TZID=UTC:20250706T203000
DTSTAMP:20260422T013657
CREATED:20250327T125304Z
LAST-MODIFIED:20250401T103450Z
UID:4960-1751479200-1751833800@mpsportscricketacademy.co.uk
SUMMARY:U9 Match: MP Cricket Academy vs Dinton CC - Away
DESCRIPTION:
URL:https://mpsportscricketacademy.co.uk/event/u9-match-mp-cricket-academy-vs-dinton-cc-away/
LOCATION:Dinton Cricket Club\, Dinton\, Aylesbury\, Buckinghamshire\, HP17 8UN\, United Kingdom
CATEGORIES:U9 Matches
ORGANIZER;CN="MP Cricket Academy":MAILTO:mpsportsacademy@hotmail.co.uk
END:VEVENT
BEGIN:VEVENT
DTSTART;TZID=UTC:20250707T180000
DTEND;TZID=UTC:20250707T203000
DTSTAMP:20260422T013657
CREATED:20250327T125512Z
LAST-MODIFIED:20250327T125512Z
UID:4963-1751911200-1751920200@mpsportscricketacademy.co.uk
SUMMARY:U9 Match: MP Cricket Academy vs Thame Town CC - Home
DESCRIPTION:
URL:https://mpsportscricketacademy.co.uk/event/u9-match-mp-cricket-academy-vs-thame-town-cc-home/
LOCATION:MP Cricket Academy Sports Ground\, New Barn\, Kingsey Rd\,\, Thame\, Oxfordshire\, OX9 3JL\, United Kingdom
CATEGORIES:U9 Matches
ORGANIZER;CN="MP Cricket Academy":MAILTO:mpsportsacademy@hotmail.co.uk
END:VEVENT
BEGIN:VEVENT
DTSTART;TZID=UTC:20250713T100000
DTEND;TZID=UTC:20250713T123000
DTSTAMP:20260422T013657
CREATED:20250327T130149Z
LAST-MODIFIED:20250327T130149Z
UID:4967-1752400800-1752409800@mpsportscricketacademy.co.uk
SUMMARY:U9 Match: MP Cricket Academy vs Haddenham CC - Home
DESCRIPTION:
URL:https://mpsportscricketacademy.co.uk/event/u9-match-mp-cricket-academy-vs-haddenham-cc-home/
LOCATION:Haddenham Cricket Club\, Woodways\, Haddenham\, Buckinghamshire\, HP17 8DS\, United Kingdom
CATEGORIES:U9 Matches
ORGANIZER;CN="MP Cricket Academy":MAILTO:mpsportsacademy@hotmail.co.uk
END:VEVENT
BEGIN:VEVENT
DTSTART;TZID=UTC:20250717T180000
DTEND;TZID=UTC:20250717T203000
DTSTAMP:20260422T013657
CREATED:20250327T130725Z
LAST-MODIFIED:20250327T130725Z
UID:4973-1752775200-1752784200@mpsportscricketacademy.co.uk
SUMMARY:U9 Match: MP Cricket Academy vs Bledlow Village CC - Away
DESCRIPTION:
URL:https://mpsportscricketacademy.co.uk/event/u9-match-mp-cricket-academy-vs-bledlow-village-cc-away/
LOCATION:Bledlow Village CC\, West Lane\, Bledlow\, Buckinghamshire\, HP27 9PF\, United Kingdom
CATEGORIES:U9 Matches
ORGANIZER;CN="MP Cricket Academy":MAILTO:mpsportsacademy@hotmail.co.uk
END:VEVENT
END:VCALENDAR