BEGIN:VCALENDAR
VERSION:2.0
PRODID:-//Welcome to MP Sports Cricket Academy in Thame, Oxfordshire - ECPv6.10.1//NONSGML v1.0//EN
CALSCALE:GREGORIAN
METHOD:PUBLISH
X-WR-CALNAME:Welcome to MP Sports Cricket Academy in Thame, Oxfordshire
X-ORIGINAL-URL:https://mpsportscricketacademy.co.uk
X-WR-CALDESC:Events for Welcome to MP Sports Cricket Academy in Thame, Oxfordshire
REFRESH-INTERVAL;VALUE=DURATION:PT1H
X-Robots-Tag:noindex
X-PUBLISHED-TTL:PT1H
BEGIN:VTIMEZONE
TZID:UTC
BEGIN:STANDARD
TZOFFSETFROM:+0000
TZOFFSETTO:+0000
TZNAME:UTC
DTSTART:20250101T000000
END:STANDARD
END:VTIMEZONE
BEGIN:VEVENT
DTSTART;TZID=UTC:20251005T170000
DTEND;TZID=UTC:20251005T190000
DTSTAMP:20260421T115755
CREATED:20251001T181659Z
LAST-MODIFIED:20251001T181912Z
UID:5353-1759683600-1759690800@mpsportscricketacademy.co.uk
SUMMARY:Hardball Indoor Nets session 2
DESCRIPTION:
URL:https://mpsportscricketacademy.co.uk/event/hardball-indoor-nets/
LOCATION:Lord Williams Lower School Indoor Sports Hall\, Lord Williams Lower School Indoor Sports Hall\, Towersey Rd\, Thame\, Oxfordshire\, OX9 3NW\, United Kingdom
CATEGORIES:Indoor Nets - Hardball
ORGANIZER;CN="MP Cricket Academy":MAILTO:mpsportsacademy@hotmail.co.uk
END:VEVENT
BEGIN:VEVENT
DTSTART;TZID=UTC:20251012T170000
DTEND;TZID=UTC:20251012T190000
DTSTAMP:20260421T115755
CREATED:20251001T182019Z
LAST-MODIFIED:20251001T182118Z
UID:5356-1760288400-1760295600@mpsportscricketacademy.co.uk
SUMMARY:Hardball Indoor Nets session 3
DESCRIPTION:
URL:https://mpsportscricketacademy.co.uk/event/hardball-indoor-nets-session-3/
LOCATION:Lord Williams Lower School Indoor Sports Hall\, Lord Williams Lower School Indoor Sports Hall\, Towersey Rd\, Thame\, Oxfordshire\, OX9 3NW\, United Kingdom
CATEGORIES:Indoor Nets - Hardball
ORGANIZER;CN="MP Cricket Academy":MAILTO:mpsportsacademy@hotmail.co.uk
END:VEVENT
BEGIN:VEVENT
DTSTART;TZID=UTC:20251018T190000
DTEND;TZID=UTC:20251018T210000
DTSTAMP:20260421T115755
CREATED:20251001T180639Z
LAST-MODIFIED:20251001T180639Z
UID:5347-1760814000-1760821200@mpsportscricketacademy.co.uk
SUMMARY:Bollywood Night - Homemade Indian food by Hema
DESCRIPTION:On the 18th of October we will be doing a Bollywood night\, with music and Indian food for everyone. \nFor more information please contact Manoj.
URL:https://mpsportscricketacademy.co.uk/event/bollywood-night-homemade-indian-food-by-hema/
LOCATION:MP Cricket Academy Sports Ground\, New Barn\, Kingsey Rd\,\, Thame\, Oxfordshire\, OX9 3JL\, United Kingdom
CATEGORIES:Event
ORGANIZER;CN="MP Cricket Academy":MAILTO:mpsportsacademy@hotmail.co.uk
END:VEVENT
BEGIN:VEVENT
DTSTART;TZID=UTC:20251019T170000
DTEND;TZID=UTC:20251019T190000
DTSTAMP:20260421T115755
CREATED:20251001T182221Z
LAST-MODIFIED:20251001T182221Z
UID:5359-1760893200-1760900400@mpsportscricketacademy.co.uk
SUMMARY:Hardball Indoor Nets session 4
DESCRIPTION:
URL:https://mpsportscricketacademy.co.uk/event/hardball-indoor-nets-session-4/
LOCATION:Lord Williams Lower School Indoor Sports Hall\, Lord Williams Lower School Indoor Sports Hall\, Towersey Rd\, Thame\, Oxfordshire\, OX9 3NW\, United Kingdom
CATEGORIES:Indoor Nets - Hardball
END:VEVENT
END:VCALENDAR