BEGIN:VCALENDAR
VERSION:2.0
PRODID:-//Welcome to MP Sports Cricket Academy in Thame, Oxfordshire - ECPv6.10.1//NONSGML v1.0//EN
CALSCALE:GREGORIAN
METHOD:PUBLISH
X-WR-CALNAME:Welcome to MP Sports Cricket Academy in Thame, Oxfordshire
X-ORIGINAL-URL:https://mpsportscricketacademy.co.uk
X-WR-CALDESC:Events for Welcome to MP Sports Cricket Academy in Thame, Oxfordshire
REFRESH-INTERVAL;VALUE=DURATION:PT1H
X-Robots-Tag:noindex
X-PUBLISHED-TTL:PT1H
BEGIN:VTIMEZONE
TZID:UTC
BEGIN:STANDARD
TZOFFSETFROM:+0000
TZOFFSETTO:+0000
TZNAME:UTC
DTSTART:20250101T000000
END:STANDARD
END:VTIMEZONE
BEGIN:VEVENT
DTSTART;TZID=UTC:20250315T130000
DTEND;TZID=UTC:20250315T140000
DTSTAMP:20260422T014557
CREATED:20250306T175054Z
LAST-MODIFIED:20250306T175054Z
UID:4607-1742043600-1742047200@mpsportscricketacademy.co.uk
SUMMARY: FREE Diving Catch Practice and a Water Running Competition!
DESCRIPTION: FREE Diving Catch Practice and a Water Running Competition!\n\n\nOn: 15th March 2025\nAt: The Thame Leisure Centre\, Thame\nTime: 1-2pm\nFor: Children age 9-12 (years 5-7)
URL:https://mpsportscricketacademy.co.uk/event/free-diving-catch-practice-and-a-water-running-competition/
LOCATION:Oxfordshire
END:VEVENT
END:VCALENDAR